BEGIN:VCALENDAR
VERSION:2.0
PRODID:-//Associação de Usuários de RMN - ECPv6.15.20//NONSGML v1.0//EN
CALSCALE:GREGORIAN
METHOD:PUBLISH
X-ORIGINAL-URL:https://auremn.org/wp
X-WR-CALDESC:Eventos para Associação de Usuários de RMN
REFRESH-INTERVAL;VALUE=DURATION:PT1H
X-Robots-Tag:noindex
X-PUBLISHED-TTL:PT1H
BEGIN:VTIMEZONE
TZID:America/Sao_Paulo
BEGIN:STANDARD
TZOFFSETFROM:-0300
TZOFFSETTO:-0300
TZNAME:-03
DTSTART:20240101T000000
END:STANDARD
END:VTIMEZONE
BEGIN:VEVENT
DTSTART;VALUE=DATE:20250203
DTEND;VALUE=DATE:20250215
DTSTAMP:20260422T074256
CREATED:20250524T212233Z
LAST-MODIFIED:20250525T192654Z
UID:4670-1738540800-1739577599@auremn.org
SUMMARY:VI Escola Brasileira Avançada de RMN (2025)
DESCRIPTION:A Ressonância Magnética Nuclear (RMN) é uma das principais ferramentas de exploração científica\, amplamente utilizada em diversos projetos de Pesquisa\, Desenvolvimento e Inovação (PD&I). No entanto\, seu potencial ainda é subutilizado na ciência brasileira. Para mudar esse cenário e tornar a RMN amplamente acessível à comunidade científica nacional\, a Associação de Usuários de RMN (AUREMN) promove as Escolas Avançadas de RMN. \nO principal objetivo dessas escolas é capacitar estudantes e pesquisadores a utilizar essa poderosa técnica em seu estado da arte\, viabilizando o desenvolvimento de projetos de pesquisa inovadores e na vanguarda do conhecimento no Brasil. \nA sexta edição da Escola\, que ocorrerá entre os dias 3 e 14 de fevereiro\, no Campus Centro Politécnico da UFPR\, em Curitiba\, oferece uma oportunidade única para aprofundar os conhecimentos no uso desta importante ferramenta científica.
URL:https://auremn.org/wp/pt/evento/vi-escola-brasileira-avancada-de-rmn/
LOCATION:Universidade Federal do Paraná\, Av. Cel. Francisco H. dos Santos\, 100\, Curitiba\, Paraná\, 81531-980\, Brazil
CATEGORIES:Escolas
ATTACH;FMTTYPE=image/png:https://auremn.org/wp/wp-content/uploads/2025/05/cover-ebrmn-2025.png
ORGANIZER;CN="Associa%C3%A7%C3%A3o de Usu%C3%A1rios de RMN":MAILTO:administrativo@auremn.org
END:VEVENT
END:VCALENDAR